BEGIN:VCALENDAR
VERSION:2.0
PRODID:-//a hub for materials research - ECPv6.15.18//NONSGML v1.0//EN
CALSCALE:GREGORIAN
METHOD:PUBLISH
X-WR-CALNAME:a hub for materials research
X-ORIGINAL-URL:https://remade-project.eu
X-WR-CALDESC:Events for a hub for materials research
REFRESH-INTERVAL;VALUE=DURATION:PT1H
X-Robots-Tag:noindex
X-PUBLISHED-TTL:PT1H
BEGIN:VTIMEZONE
TZID:Europe/Paris
BEGIN:DAYLIGHT
TZOFFSETFROM:+0100
TZOFFSETTO:+0200
TZNAME:CEST
DTSTART:20240331T010000
END:DAYLIGHT
BEGIN:STANDARD
TZOFFSETFROM:+0200
TZOFFSETTO:+0100
TZNAME:CET
DTSTART:20241027T010000
END:STANDARD
BEGIN:DAYLIGHT
TZOFFSETFROM:+0100
TZOFFSETTO:+0200
TZNAME:CEST
DTSTART:20250330T010000
END:DAYLIGHT
BEGIN:STANDARD
TZOFFSETFROM:+0200
TZOFFSETTO:+0100
TZNAME:CET
DTSTART:20251026T010000
END:STANDARD
BEGIN:DAYLIGHT
TZOFFSETFROM:+0100
TZOFFSETTO:+0200
TZNAME:CEST
DTSTART:20260329T010000
END:DAYLIGHT
BEGIN:STANDARD
TZOFFSETFROM:+0200
TZOFFSETTO:+0100
TZNAME:CET
DTSTART:20261025T010000
END:STANDARD
END:VTIMEZONE
BEGIN:VEVENT
DTSTART;TZID=Europe/Paris:20250718T100000
DTEND;TZID=Europe/Paris:20250718T110000
DTSTAMP:20260421T103352
CREATED:20250514T090248Z
LAST-MODIFIED:20250718T093231Z
UID:10000063-1752832800-1752836400@remade-project.eu
SUMMARY:X-ray Diffraction at the service of circular economy: the advantages of synchrotron radiation
DESCRIPTION:Zoom webinar | Replay on Youtube\nMarta Mirolo\,  \nESRF\, France \nX-ray diffraction (XRD) is a well-known technique to investigate the atomic structure of crystalline materials. Compared to laboratory instruments\, X-rays generated in a synchrotron have the advantages of higher energy and higher photon flux\, allowing for fast measurement of thick or complex systems\, in situ and operando. From the improvement of battery materials to the understanding of recycling processes\, synchrotron XRD opens the door to advancements in the field of Circular Economy at both a fundamental and an applied level.
URL:https://remade-project.eu/index.php/event/x-ray-diffraction-at-the-service-of-circular-economy-the-advantages-of-synchrotron-radiation/
CATEGORIES:Seminar
ATTACH;FMTTYPE=image/jpeg:https://remade-project.eu/wp-content/uploads/2025/05/250718_ReMade@ARI-seminar_Mirolo.jpg
END:VEVENT
END:VCALENDAR