BEGIN:VCALENDAR
VERSION:2.0
PRODID:-//a hub for materials research - ECPv6.15.18//NONSGML v1.0//EN
CALSCALE:GREGORIAN
METHOD:PUBLISH
X-WR-CALNAME:a hub for materials research
X-ORIGINAL-URL:https://remade-project.eu
X-WR-CALDESC:Events for a hub for materials research
REFRESH-INTERVAL;VALUE=DURATION:PT1H
X-Robots-Tag:noindex
X-PUBLISHED-TTL:PT1H
BEGIN:VTIMEZONE
TZID:Europe/Paris
BEGIN:DAYLIGHT
TZOFFSETFROM:+0100
TZOFFSETTO:+0200
TZNAME:CEST
DTSTART:20240331T010000
END:DAYLIGHT
BEGIN:STANDARD
TZOFFSETFROM:+0200
TZOFFSETTO:+0100
TZNAME:CET
DTSTART:20241027T010000
END:STANDARD
BEGIN:DAYLIGHT
TZOFFSETFROM:+0100
TZOFFSETTO:+0200
TZNAME:CEST
DTSTART:20250330T010000
END:DAYLIGHT
BEGIN:STANDARD
TZOFFSETFROM:+0200
TZOFFSETTO:+0100
TZNAME:CET
DTSTART:20251026T010000
END:STANDARD
BEGIN:DAYLIGHT
TZOFFSETFROM:+0100
TZOFFSETTO:+0200
TZNAME:CEST
DTSTART:20260329T010000
END:DAYLIGHT
BEGIN:STANDARD
TZOFFSETFROM:+0200
TZOFFSETTO:+0100
TZNAME:CET
DTSTART:20261025T010000
END:STANDARD
END:VTIMEZONE
BEGIN:VEVENT
DTSTART;TZID=Europe/Paris:20250627T100000
DTEND;TZID=Europe/Paris:20250627T110000
DTSTAMP:20260421T115843
CREATED:20250514T084941Z
LAST-MODIFIED:20250627T123513Z
UID:10000062-1751018400-1751022000@remade-project.eu
SUMMARY:Electrostatic potential of latex sphere using off-axis electron holography
DESCRIPTION:Zoom webinar | Replay on Youtube\nYan Lu \,  \nFZJ\, Germany \nElectrostatic potential\, including both that contributed by electron-beam-induced specimen charging and intrinsic material-related mean inner potential (MIP)\, is crucial because it is influence the reaction between charged particles\, chemical reactivity\, and dielectric properties. Off-axis electron holography is a powerful TEM technique that can be used to map local variations in electron optical phase shift\, which are in turn sensitive to electrostatic potentials and magnetic fields. In the absence of magnetic contributions to the phase shift\, the recorded phase is proportional to the projected electrostatic potential within and outside the specimen. Insulating nanoparticles with simple geometries are ideal objects for the study of specimen charging in the TEM. To demonstrate this technique and methodology for analyzing electrostatic potential\, two examples will be presented. \nPolystyrene latex beads were examined temperature-dependent behavior of the MIP and electron-beam-induced charge from room temperature down to 5.3 K. The diameter of latex spheres is in the range of 230 nm to 600 nm. By isolating the electrostatic potential contributed by the electron-beam-induced charge which was detected in vacuum surrounding the sphere\, the MIP was obtained at high precision\, revealing a significant increase of 16.8%±4.2% as temperature decreases. \nIn addition\, this talk will present the quantification of electron-beam-induced charge on MgO nanocubes reflecting the amount of oxygen vacancies on the surface\, which is essential for catalytical reaction.
URL:https://remade-project.eu/index.php/event/electrostatic-potential-of-latex-sphere-using-off-axis-electron-holography/
CATEGORIES:Seminar
ATTACH;FMTTYPE=image/jpeg:https://remade-project.eu/wp-content/uploads/2025/05/250627_ReMade@ARI-seminar_Lu.jpg
END:VEVENT
END:VCALENDAR