BEGIN:VCALENDAR
VERSION:2.0
PRODID:-//a hub for materials research - ECPv6.15.20//NONSGML v1.0//EN
CALSCALE:GREGORIAN
METHOD:PUBLISH
X-WR-CALNAME:a hub for materials research
X-ORIGINAL-URL:https://remade-project.eu
X-WR-CALDESC:Events for a hub for materials research
REFRESH-INTERVAL;VALUE=DURATION:PT1H
X-Robots-Tag:noindex
X-PUBLISHED-TTL:PT1H
BEGIN:VTIMEZONE
TZID:Europe/Paris
BEGIN:DAYLIGHT
TZOFFSETFROM:+0100
TZOFFSETTO:+0200
TZNAME:CEST
DTSTART:20230326T010000
END:DAYLIGHT
BEGIN:STANDARD
TZOFFSETFROM:+0200
TZOFFSETTO:+0100
TZNAME:CET
DTSTART:20231029T010000
END:STANDARD
BEGIN:DAYLIGHT
TZOFFSETFROM:+0100
TZOFFSETTO:+0200
TZNAME:CEST
DTSTART:20240331T010000
END:DAYLIGHT
BEGIN:STANDARD
TZOFFSETFROM:+0200
TZOFFSETTO:+0100
TZNAME:CET
DTSTART:20241027T010000
END:STANDARD
BEGIN:DAYLIGHT
TZOFFSETFROM:+0100
TZOFFSETTO:+0200
TZNAME:CEST
DTSTART:20250330T010000
END:DAYLIGHT
BEGIN:STANDARD
TZOFFSETFROM:+0200
TZOFFSETTO:+0100
TZNAME:CET
DTSTART:20251026T010000
END:STANDARD
END:VTIMEZONE
BEGIN:VEVENT
DTSTART;TZID=Europe/Paris:20240906T140000
DTEND;TZID=Europe/Paris:20240906T150000
DTSTAMP:20260422T022339
CREATED:20240208T110047Z
LAST-MODIFIED:20240906T171527Z
UID:10000038-1725631200-1725634800@remade-project.eu
SUMMARY:Multiscale structural characterization by scanning SWAXS imaging
DESCRIPTION:Zoom webinar | Replay on Youtube\n  \nKim Nygård\, \nMAX IV\, Sweden \nSmall- and wide-angle x-ray scattering (SWAXS) in scanning-imaging mode provides means to locally characterise the nanoscale structure of materials over macroscopic volumes. Here we will introduce the technique\, provide a few illustrative examples\, and discuss challenges for new users of the technique.
URL:https://remade-project.eu/index.php/event/multiscale-structural-characterization-by-scanning-swaxs-imaging/
CATEGORIES:Seminar
ATTACH;FMTTYPE=image/jpeg:https://remade-project.eu/wp-content/uploads/2024/02/240906_ReMade@ARI_webinars_Nygard.jpg
END:VEVENT
BEGIN:VEVENT
DTSTART;TZID=Europe/Paris:20240927T100000
DTEND;TZID=Europe/Paris:20240927T110000
DTSTAMP:20260422T022339
CREATED:20240613T110524Z
LAST-MODIFIED:20241002T091249Z
UID:10000048-1727431200-1727434800@remade-project.eu
SUMMARY:Hyperspectral Imaging and microscopy
DESCRIPTION:Zoom webinar | Replay on Youtube\n  \nCristian Manzoni\, \nIFN-CNR & Polimi\, Italy \nSpectral imaging\, also known as imaging spectroscopy\, refers to methods and devices for acquiring a complete light spectrum for each point in the image of a scene. It provides much richer information with respect to standard imaging\, enabling to identify materials or detect dynamical processes. Spectral imaging has been applied to a wide range of scientific investigations\, such as remote sensing\, pigment determination in biology\, medicine\, coastal ocean imaging\, water analysis\, agriculture\, cultural heritage and archaeology\, just to cite a few. In particular\, hyperspectral imaging aims at acquiring the whole continuous spectrum of each point of the scene. A powerful approach to this aim is to combine classical imaging with Fourier-transform spectrometry [1]. \nHyperspectral imaging in the Thermal infrared of a sample with mineral and artificial quartz. Left: False RGB image\, synthesized from the spectral data; Right: spectral emissivity.\nIn this talk\, I will describe the main properties of the spectral imaging and the current acquisition approaches. I will also show the most recent advancements obtained at the Istituto di Fotonica e Nanotecnologie (IFN-CNR)\, based on an innovative optical device [2]. \nOur compact hyperspectral system is able to acquire spectral reflectance and fluorescence images with high sensitivity\, broad spectral coverage and high spectral resolution. Examples of hyperspectral remote-sensing and microscopy images will be provided and discussed [3]. \nHyperspectral microscope fluorescence imaging of Invitrogen slide #1 (MitoTracker® Red CMXRos +Alexa Fluor® 488 phalloidin). Excitation: 2 lasers at 478 and 562 nm; Objective: 20X\, 0.45 NA. (a) Fluorescence of Filamentous F-actin at 470-550nm; (b) Fluorescence of mitocondria at 570-680 nm; (c) Merged maps.\nReferences \n[1] S.P. Davis\, M.C. Abrams\, and J.W. Brault\, Fourier Transform Spectrometry (Academic Press\, 2001)\n[2] D. Brida\, C. Manzoni\, and G. Cerullo\, “Phase-locked pulses for two-dimensional spectroscopy by a birefringent delay line\,” Opt. Lett. 37\, 3027-3029 (2012)\n[3] A. Perri\, B. E. Nogueira de Faria\, D. C. Teles Ferreira\, D. Comelli\, G. Valentini\, F. Preda\, D. Polli\, A. M. de Paula\, G. Cerullo\, and C. Manzoni\, “Hyperspectral imaging with a TWINS birefringent interferometer\,” Opt. Express 27\, 15956-15967 (2019)
URL:https://remade-project.eu/index.php/event/hyperspectral-imaging-and-microscopy/
CATEGORIES:Seminar
ATTACH;FMTTYPE=image/jpeg:https://remade-project.eu/wp-content/uploads/2024/06/240927_ReMade@ARI_webinars_Manzoni.jpg
END:VEVENT
END:VCALENDAR