BEGIN:VCALENDAR
VERSION:2.0
PRODID:-//a hub for materials research - ECPv6.15.20//NONSGML v1.0//EN
CALSCALE:GREGORIAN
METHOD:PUBLISH
X-ORIGINAL-URL:https://remade-project.eu
X-WR-CALDESC:Events for a hub for materials research
REFRESH-INTERVAL;VALUE=DURATION:PT1H
X-Robots-Tag:noindex
X-PUBLISHED-TTL:PT1H
BEGIN:VTIMEZONE
TZID:Europe/Paris
BEGIN:DAYLIGHT
TZOFFSETFROM:+0100
TZOFFSETTO:+0200
TZNAME:CEST
DTSTART:20220327T010000
END:DAYLIGHT
BEGIN:STANDARD
TZOFFSETFROM:+0200
TZOFFSETTO:+0100
TZNAME:CET
DTSTART:20221030T010000
END:STANDARD
BEGIN:DAYLIGHT
TZOFFSETFROM:+0100
TZOFFSETTO:+0200
TZNAME:CEST
DTSTART:20230326T010000
END:DAYLIGHT
BEGIN:STANDARD
TZOFFSETFROM:+0200
TZOFFSETTO:+0100
TZNAME:CET
DTSTART:20231029T010000
END:STANDARD
BEGIN:DAYLIGHT
TZOFFSETFROM:+0100
TZOFFSETTO:+0200
TZNAME:CEST
DTSTART:20240331T010000
END:DAYLIGHT
BEGIN:STANDARD
TZOFFSETFROM:+0200
TZOFFSETTO:+0100
TZNAME:CET
DTSTART:20241027T010000
END:STANDARD
END:VTIMEZONE
BEGIN:VEVENT
DTSTART;TZID=Europe/Paris:20230519T140000
DTEND;TZID=Europe/Paris:20230519T140000
DTSTAMP:20260425T040922
CREATED:20230504T093553Z
LAST-MODIFIED:20230607T081120Z
UID:10000024-1684504800-1684504800@remade-project.eu
SUMMARY:Neutrons and Nanometers
DESCRIPTION:Zoom webinar | Live stream on Youtube\n  \nSarah ROGERS\nISIS Neutron and muon source\, United Kingdom \nTraditional Small-Angle Neutron Scattering (SANS) is a powerful technique for determining microstructure in the range of tens to thousands of Angstroms.  SANS on a pulsed source\, such as ISIS\, has the significant advantage of a wide simultaneous Q range which is ideal when studying systems containing a broad range of lengthscales.  At ISIS there are currently four operational and complementary SANS beamlines\, Loq\, Sans2d\, Larmor and Zoom. \nThe scientific landscape for SANS at ISIS is changing and this has required development of new instrumentation – in particular\, there is a desire to reach lower Q.  To achieve this\, Larmor offers Spin-Echo SANS (SESANS). \nDuring this talk\, an overview of the techniques of SANS and SESANS at a short-pulsed spallation source\, such as ISIS\, will be given.  Details on some of the applications will also be highlighted alongside a taste of what we hope to do in the future.
URL:https://remade-project.eu/index.php/event/webinar3/
CATEGORIES:Seminar
ATTACH;FMTTYPE=image/jpeg:https://remade-project.eu/wp-content/uploads/2023/05/230519_ReMade@ARI-Seminar_Rogers-2b.jpg
END:VEVENT
END:VCALENDAR