BEGIN:VCALENDAR
VERSION:2.0
PRODID:-//a hub for materials research - ECPv6.15.20//NONSGML v1.0//EN
CALSCALE:GREGORIAN
METHOD:PUBLISH
X-ORIGINAL-URL:https://remade-project.eu
X-WR-CALDESC:Events for a hub for materials research
REFRESH-INTERVAL;VALUE=DURATION:PT1H
X-Robots-Tag:noindex
X-PUBLISHED-TTL:PT1H
BEGIN:VTIMEZONE
TZID:Europe/Paris
BEGIN:DAYLIGHT
TZOFFSETFROM:+0100
TZOFFSETTO:+0200
TZNAME:CEST
DTSTART:20220327T010000
END:DAYLIGHT
BEGIN:STANDARD
TZOFFSETFROM:+0200
TZOFFSETTO:+0100
TZNAME:CET
DTSTART:20221030T010000
END:STANDARD
BEGIN:DAYLIGHT
TZOFFSETFROM:+0100
TZOFFSETTO:+0200
TZNAME:CEST
DTSTART:20230326T010000
END:DAYLIGHT
BEGIN:STANDARD
TZOFFSETFROM:+0200
TZOFFSETTO:+0100
TZNAME:CET
DTSTART:20231029T010000
END:STANDARD
BEGIN:DAYLIGHT
TZOFFSETFROM:+0100
TZOFFSETTO:+0200
TZNAME:CEST
DTSTART:20240331T010000
END:DAYLIGHT
BEGIN:STANDARD
TZOFFSETFROM:+0200
TZOFFSETTO:+0100
TZNAME:CET
DTSTART:20241027T010000
END:STANDARD
END:VTIMEZONE
BEGIN:VEVENT
DTSTART;TZID=Europe/Paris:20230421T140000
DTEND;TZID=Europe/Paris:20230421T150000
DTSTAMP:20260425T052201
CREATED:20230314T190610Z
LAST-MODIFIED:20230613T160639Z
UID:10000015-1682085600-1682089200@remade-project.eu
SUMMARY:X-ray diffraction used for operando/in situ studies of batteries and fuel cells
DESCRIPTION:Zoom webinar | Live stream on Youtube\n  \nJakub Drnec\,\nEuropean Synchrotron Radiation Facility (ESRF)\, Grenoble\, France \nComplete physico-chemical operando characterization of electrochemical devices in whole\, or it’s constituent materials separately\, is necessary to guide the development and to improve the performance. High brilliance synchrotron X-ray sources play a crucial role in this respect as they act as a probe with relatively high penetration power and low damage potential. Synchrotron sources will undergo major upgrades in next decade and will provide even higher brilliance and\, more importantly\, coherence. These upgrades will be particularly advantageous for beamlines providing high energy X-rays as they will allow use of advanced scattering techniques with highly penetrating probe. Therefore\, the techniques typically used for ex-situ measurements or at lower X-ray energies could be used on materials in liquid half-cells and operating electrochemical devices. In this contribution the new possibilities of using high energy\, high intensity\, coherent X-rays to probe model systems and whole electrochemical devices will be presented. The focus will be on defects tracking\, local structure determination and correlative multimodal characterization using advanced WAXS\, SAXS and surface scattering techniques.\nTo study fuel cells or batteries as a whole\, elastic scattering techniques such as wide angle and small angle scattering are typically employed\, as they can provide important complementary information to more standard X-ray imaging and tomography. The advantage is that the chemical contrast and sensitivity at atomic and nm scales is superior. Coupling these technique with the tomographic reconstruction (XRD-CT and SAXS-CT) is much less common as it requires bright synchrotron sources\, fast 2D detectors and advanced instrumentation. However\, such combination allows spatial reconstruction of materials important atomic parameters in operando conditions. This will be demonstrated on imaging of standard 5 cm2 PEM fuel cell and Li-ion battery during operation.\nFurthermore\, local atomic and mesoscale structure\, together with defect content\, can also be determined by using Rietveld fitting\, Pair Distribution Function (PDF) analysis and advanced SAXS theory. This in principle allows holistic investigations of interfaces at the device level\, specification of defects’ role in catalysis and determination of interplay between different phases during operation. These are critical questions needed to be answered in order to incorporate novel materials into the electrochemical devices. Examples will be given on studies of the CO2 electrolysis.
URL:https://remade-project.eu/index.php/event/webinar2/
LOCATION:Zoom (permanent link)
CATEGORIES:Seminar
ATTACH;FMTTYPE=image/jpeg:https://remade-project.eu/wp-content/uploads/2023/03/230421_ReMade@ARI-Seminar_Drnec-2.jpg
END:VEVENT
END:VCALENDAR