BEGIN:VCALENDAR
VERSION:2.0
PRODID:-//a hub for materials research - ECPv6.15.20//NONSGML v1.0//EN
CALSCALE:GREGORIAN
METHOD:PUBLISH
X-WR-CALNAME:a hub for materials research
X-ORIGINAL-URL:https://remade-project.eu
X-WR-CALDESC:Events for a hub for materials research
REFRESH-INTERVAL;VALUE=DURATION:PT1H
X-Robots-Tag:noindex
X-PUBLISHED-TTL:PT1H
BEGIN:VTIMEZONE
TZID:Europe/Paris
BEGIN:DAYLIGHT
TZOFFSETFROM:+0100
TZOFFSETTO:+0200
TZNAME:CEST
DTSTART:20210328T010000
END:DAYLIGHT
BEGIN:STANDARD
TZOFFSETFROM:+0200
TZOFFSETTO:+0100
TZNAME:CET
DTSTART:20211031T010000
END:STANDARD
BEGIN:DAYLIGHT
TZOFFSETFROM:+0100
TZOFFSETTO:+0200
TZNAME:CEST
DTSTART:20220327T010000
END:DAYLIGHT
BEGIN:STANDARD
TZOFFSETFROM:+0200
TZOFFSETTO:+0100
TZNAME:CET
DTSTART:20221030T010000
END:STANDARD
BEGIN:DAYLIGHT
TZOFFSETFROM:+0100
TZOFFSETTO:+0200
TZNAME:CEST
DTSTART:20230326T010000
END:DAYLIGHT
BEGIN:STANDARD
TZOFFSETFROM:+0200
TZOFFSETTO:+0100
TZNAME:CET
DTSTART:20231029T010000
END:STANDARD
BEGIN:DAYLIGHT
TZOFFSETFROM:+0100
TZOFFSETTO:+0200
TZNAME:CEST
DTSTART:20240331T010000
END:DAYLIGHT
BEGIN:STANDARD
TZOFFSETFROM:+0200
TZOFFSETTO:+0100
TZNAME:CET
DTSTART:20241027T010000
END:STANDARD
BEGIN:DAYLIGHT
TZOFFSETFROM:+0100
TZOFFSETTO:+0200
TZNAME:CEST
DTSTART:20250330T010000
END:DAYLIGHT
BEGIN:STANDARD
TZOFFSETFROM:+0200
TZOFFSETTO:+0100
TZNAME:CET
DTSTART:20251026T010000
END:STANDARD
BEGIN:DAYLIGHT
TZOFFSETFROM:+0100
TZOFFSETTO:+0200
TZNAME:CEST
DTSTART:20260329T010000
END:DAYLIGHT
BEGIN:STANDARD
TZOFFSETFROM:+0200
TZOFFSETTO:+0100
TZNAME:CET
DTSTART:20261025T010000
END:STANDARD
END:VTIMEZONE
BEGIN:VEVENT
DTSTART;VALUE=DATE:20221127
DTEND;VALUE=DATE:20221203
DTSTAMP:20260425T153904
CREATED:20230228T103212Z
LAST-MODIFIED:20230228T103212Z
UID:10000007-1669507200-1670025599@remade-project.eu
SUMMARY:2022 Materials Research Society Fall Meeting & Exhibit
DESCRIPTION:The increasingly cross-disciplinary worldwide activity in materials research manifests itself every year in the MRS Fall Meetings. Featuring over 50 symposia and attended by as many as 6\,000 researchers from every corner of the globe\, the annual Fall Meeting in Boston’s Hynes Convention Center and Sheraton Boston Hotel is the preeminent annual event for those in the field of materials research.
URL:https://remade-project.eu/index.php/event/2022-materials-research-society-fall-meeting-exhibit/
LOCATION:Boston\, USA
CATEGORIES:Conference
END:VEVENT
BEGIN:VEVENT
DTSTART;VALUE=DATE:20230326
DTEND;VALUE=DATE:20230401
DTSTAMP:20260425T153904
CREATED:20230315T172023Z
LAST-MODIFIED:20230315T172507Z
UID:10000023-1679788800-1680307199@remade-project.eu
SUMMARY:DPG Meeting of the Condensed Matter Section
DESCRIPTION:The Metal and Material Physics Division (MM) program of the German Physical Society (Condensed Matter Section) adresses the following  topics: \n\nDevelopment of computational methods\nData driven material science: big data and workflows\nMaterials for storage and conversion of energy (Experiment and Theory)\nHydrogen in materials (Experiment and Theory)\nFunctional materials: performance\, reliability and degradation (Experiment and Theory)\nPhase transformations (Experiment and Theory)\nInterface controlled properties and Nanomaterials (Experiment and Theory)\nLiquid and amorphous materials (Experiment and Theory)\nMechanical properties and alloy design: e.g. light-weight\, high-temperature\, multi-component materials (Experiment and Theory)\nTransport in materials: diffusion\, conduction of charge or heat (Experiment and Theory)\n\nEric Hirschmann (HZDR) will present the opportunities and modalities of the recently opened ReMade@ARI call for proposals at this occasion\, with a poster dedicated to our Horizon Europe project.
URL:https://remade-project.eu/index.php/event/dpg-meeting-of-the-condensed-matter-section/
CATEGORIES:Conference
END:VEVENT
BEGIN:VEVENT
DTSTART;VALUE=DATE:20230530
DTEND;VALUE=DATE:20230604
DTSTAMP:20260425T153904
CREATED:20230228T104719Z
LAST-MODIFIED:20230302T124749Z
UID:10000012-1685404800-1685836799@remade-project.eu
SUMMARY:2022 Spring Meeting of the European Materials Research Society (E-MRS)
DESCRIPTION:Find us at the poster session at E-MRS. The conference will consist of parallel symposia with invited speakers\, oral and poster presentations assorted by three plenary sessions and two workshops to provide an international forum for discussing recent advances in the field of materials science.
URL:https://remade-project.eu/index.php/event/2022-spring-meeting-of-the-european-materials-research-society-e-mrs/
LOCATION:Zoom (permanent link)
CATEGORIES:Conference
END:VEVENT
BEGIN:VEVENT
DTSTART;VALUE=DATE:20230611
DTEND;VALUE=DATE:20230617
DTSTAMP:20260425T153904
CREATED:20230228T093250Z
LAST-MODIFIED:20230302T124602Z
UID:10000004-1686441600-1686959999@remade-project.eu
SUMMARY:Photovoltaics Specialists Conference
DESCRIPTION:Find us during the poster session at PVSC 50. This year’s conference marks a special occasion in PV history\, the 50th gathering of the premier scientific and technical conference focused on all areas of photovoltaics.
URL:https://remade-project.eu/index.php/event/photovoltaics-specialists-conference/
LOCATION:San Juan\, Puerto Rico
CATEGORIES:Conference
END:VEVENT
BEGIN:VEVENT
DTSTART;TZID=Europe/Paris:20230903T080000
DTEND;TZID=Europe/Paris:20230906T170000
DTSTAMP:20260425T153904
CREATED:20230621T153954Z
LAST-MODIFIED:20230621T154019Z
UID:10000030-1693728000-1694019600@remade-project.eu
SUMMARY:6th EuChemS Conference on Green and Sustainable Chemistry
DESCRIPTION:The 6th EuGSC is organized by the Italian Chemical Society (SCI) and EuChemS/Division of Green and Sustainable Chemistry\, and is endorsed by the Department of Chemistry and Biology “Adolfo Zambelli” of University of Salerno. \nThis is the sixth of a series of EuCheMS successful conferences on Green and Sustainable Chemistry that started eight years ago in Budapest (2013)\, followed by the conferences in Lisbon (2015)\, York (2017) and Tarragona (2019) and the last one organized virtually in Thessaloniki (2021). \nThe EuGSC conferences offer the opportunity to discuss the latest developments in green & sustainable chemistry\, to expand existing and establish new relations among academia and industry\, and to disseminate the philosophy and principles of sustainable development and circular (bio)economy.\nThe topics of the 6th EuGSC will cover the broader field of green chemistry and technology with more emphasis on sustainable catalytic and synthetic processes\, biomass and CO2 utilization\, alternative fuels and green energy\, benign low-energy chemical processes\, pollution prevention and remediation\, green chemistry metrics and environmental assessment\, sustainable industrial processes\, waste recycle and valorization\, and circular (bio)economy.
URL:https://remade-project.eu/index.php/event/6eugsc/
LOCATION:Salerno Town Hall “Salone dei Marmi”
CATEGORIES:Conference
ATTACH;FMTTYPE=image/jpeg:https://remade-project.eu/wp-content/uploads/2023/06/6eugsc.jpg
END:VEVENT
BEGIN:VEVENT
DTSTART;VALUE=DATE:20250908
DTEND;VALUE=DATE:20250913
DTSTAMP:20260425T153904
CREATED:20250515T043056Z
LAST-MODIFIED:20250606T081714Z
UID:10000070-1757289600-1757721599@remade-project.eu
SUMMARY:15th European Conference on Accelerators in Applied Research and Technology (ECAART 15)
DESCRIPTION:We are happy to share a great news from one of our ReMade@ARI’s partner\, the Laboratory of Ion Beam Physics (LIP) of the ETH Zurich (ETHZ) in Switzerland. \nThe 15th European Conference on Accelerators in Applied Research and Technology (ECAART 15) organised by LIP and ETHZ will take place from September 8th to 12th\, 2025\, at the campus Hönggerberg\, Zurich\, Switzerland. \nThe conference is designed to explore the latest scientific and technological advancements in accelerator technology and its applications to various research topics. \n📅 08-12 September 2025\n📍 Campus Hönggerberg\, ETH Zurich\, Switzerland \n🔸 Abstract submission deadline: 15 June 2025 (extended)\n🔸 Early bid registration deadline: 1 August 2025\n🔗 More information and registration: https://ecaart15.ethz.ch/ \nDon’t miss this great opportunity to connect\, exchange and collaborate!
URL:https://remade-project.eu/index.php/event/15th-european-conference-on-accelerators-in-applied-research-and-technology-ecaart-15/
LOCATION:Campus Hönggerberg\, ETH Zurich\, Switzerland
CATEGORIES:Conference
ATTACH;FMTTYPE=image/jpeg:https://remade-project.eu/wp-content/uploads/2025/05/ECAART-conference-Zurich-September-2025.jpg
END:VEVENT
END:VCALENDAR