BEGIN:VCALENDAR
VERSION:2.0
PRODID:-//a hub for materials research - ECPv6.15.20//NONSGML v1.0//EN
CALSCALE:GREGORIAN
METHOD:PUBLISH
X-WR-CALNAME:a hub for materials research
X-ORIGINAL-URL:https://remade-project.eu
X-WR-CALDESC:Events for a hub for materials research
REFRESH-INTERVAL;VALUE=DURATION:PT1H
X-Robots-Tag:noindex
X-PUBLISHED-TTL:PT1H
BEGIN:VTIMEZONE
TZID:Europe/Paris
BEGIN:DAYLIGHT
TZOFFSETFROM:+0100
TZOFFSETTO:+0200
TZNAME:CEST
DTSTART:20250330T010000
END:DAYLIGHT
BEGIN:STANDARD
TZOFFSETFROM:+0200
TZOFFSETTO:+0100
TZNAME:CET
DTSTART:20251026T010000
END:STANDARD
BEGIN:DAYLIGHT
TZOFFSETFROM:+0100
TZOFFSETTO:+0200
TZNAME:CEST
DTSTART:20260329T010000
END:DAYLIGHT
BEGIN:STANDARD
TZOFFSETFROM:+0200
TZOFFSETTO:+0100
TZNAME:CET
DTSTART:20261025T010000
END:STANDARD
BEGIN:DAYLIGHT
TZOFFSETFROM:+0100
TZOFFSETTO:+0200
TZNAME:CEST
DTSTART:20270328T010000
END:DAYLIGHT
BEGIN:STANDARD
TZOFFSETFROM:+0200
TZOFFSETTO:+0100
TZNAME:CET
DTSTART:20271031T010000
END:STANDARD
END:VTIMEZONE
BEGIN:VEVENT
DTSTART;TZID=Europe/Paris:20260424T140000
DTEND;TZID=Europe/Paris:20260424T150000
DTSTAMP:20260424T105847
CREATED:20260313T081801Z
LAST-MODIFIED:20260413T121109Z
UID:10000074-1777039200-1777042800@remade-project.eu
SUMMARY:Designing better Metal-Organic Framework catalysts for CO2 conversion:  what characterization teaches us
DESCRIPTION:Zoom webinar | Replay on Youtube (soon)\nAnna LIUTKOVA \nPSI (Switzerland) \nMetal-organic frameworks are increasingly explored as materials that can both interact with CO2 and host catalytic sites for its conversion into useful chemicals. This talk discusses how advanced characterization techniques help reveal how these materials behave under reaction conditions. Using Cu and Zn modified UiO-66 catalysts for CO2-to-methanol conversion as an example\, it illustrates how in situ X-ray methods and microscopy guide the design of better catalytic materials.
URL:https://remade-project.eu/index.php/event/designing-better-metal-organic-framework-catalysts-for-co2-conversion-what-characterization-teaches-us/
CATEGORIES:Seminar
ATTACH;FMTTYPE=image/jpeg:https://remade-project.eu/wp-content/uploads/2026/04/260424_ReMade@ARI-seminar_LIUTKOVA_v2.jpg
END:VEVENT
END:VCALENDAR